BEGIN:VCALENDAR
VERSION:2.0
PRODID:icalendar-ruby
CALSCALE:GREGORIAN
METHOD:PUBLISH
BEGIN:VEVENT
DTSTAMP:20260420T020639Z
UID:55-572@shoreline.org.nz
DTSTART:20221124T053000Z
DTEND:20221124T063000Z
CLASS:PUBLIC
CREATED:20220920T152657
DESCRIPTION:
LAST-MODIFIED:20220920T152657
LOCATION:10 Fourteenth Avenue (Gospel Centre)
SUMMARY:Kingsmen (Men's Group)
URL;VALUE=URI:https://shoreline.org.nz/events/kingsmen-mens-group/2022-11-2
 4
ATTACH;FILENAME=Mens-Gathering-2022---FINAL.jpg;FMTTYPE=image/jpeg:https://
 dq5pwpg1q8ru0.cloudfront.net/2022/09/19/20/19/00/caba899e-fd50-4dc1-b693-c
 dde9c826cfe/Mens-Gathering-2022---FINAL.jpg
END:VEVENT
END:VCALENDAR
